BEGIN:VCALENDAR
VERSION:2.0
PRODID:-//Wij samen in Flevoland - ECPv6.15.20//NONSGML v1.0//EN
CALSCALE:GREGORIAN
METHOD:PUBLISH
X-ORIGINAL-URL:https://wijsameninflevoland.nl
X-WR-CALDESC:Evenementen voor Wij samen in Flevoland
REFRESH-INTERVAL;VALUE=DURATION:PT1H
X-Robots-Tag:noindex
X-PUBLISHED-TTL:PT1H
BEGIN:VTIMEZONE
TZID:Europe/Amsterdam
BEGIN:DAYLIGHT
TZOFFSETFROM:+0100
TZOFFSETTO:+0200
TZNAME:CEST
DTSTART:20220327T010000
END:DAYLIGHT
BEGIN:STANDARD
TZOFFSETFROM:+0200
TZOFFSETTO:+0100
TZNAME:CET
DTSTART:20221030T010000
END:STANDARD
BEGIN:DAYLIGHT
TZOFFSETFROM:+0100
TZOFFSETTO:+0200
TZNAME:CEST
DTSTART:20230326T010000
END:DAYLIGHT
BEGIN:STANDARD
TZOFFSETFROM:+0200
TZOFFSETTO:+0100
TZNAME:CET
DTSTART:20231029T010000
END:STANDARD
BEGIN:DAYLIGHT
TZOFFSETFROM:+0100
TZOFFSETTO:+0200
TZNAME:CEST
DTSTART:20240331T010000
END:DAYLIGHT
BEGIN:STANDARD
TZOFFSETFROM:+0200
TZOFFSETTO:+0100
TZNAME:CET
DTSTART:20241027T010000
END:STANDARD
BEGIN:DAYLIGHT
TZOFFSETFROM:+0100
TZOFFSETTO:+0200
TZNAME:CEST
DTSTART:20250330T010000
END:DAYLIGHT
BEGIN:STANDARD
TZOFFSETFROM:+0200
TZOFFSETTO:+0100
TZNAME:CET
DTSTART:20251026T010000
END:STANDARD
BEGIN:DAYLIGHT
TZOFFSETFROM:+0100
TZOFFSETTO:+0200
TZNAME:CEST
DTSTART:20260329T010000
END:DAYLIGHT
BEGIN:STANDARD
TZOFFSETFROM:+0200
TZOFFSETTO:+0100
TZNAME:CET
DTSTART:20261025T010000
END:STANDARD
END:VTIMEZONE
BEGIN:VEVENT
DTSTART;TZID=Europe/Amsterdam:20250125T100000
DTEND;TZID=Europe/Amsterdam:20250125T170000
DTSTAMP:20260421T134512
CREATED:20240120T111453Z
LAST-MODIFIED:20250120T145128Z
UID:3607-1737799200-1737824400@wijsameninflevoland.nl
SUMMARY:introductie workshop ASTROLOGIE
DESCRIPTION:Workshop: “Kennismaken met astrologie.”\nPatricia Beekman (astrologe) en Hans ludwig (antropoloog) organiseren een leuke en interessante workshop op zaterdag van 10.00 tot 17.00u\, waarin je kennismaakt met de grondbeginselen van astrologie. We beginnen met een uitleg over o.a. de dierenriemtekens\, planeten en huizen. Daarna gaan we praktisch aan de slag. \nVervolg verdiepingsavond op woensdagavond 5 februari van 19.30 – 21.30 uur: dan gaan we in op specifieke actuele planeet standen van dat moment \nDe kosten voor beide bijeenkomsten zijn incl. koffie en  thee. Voor de workshop op zaterdag zelf lunch meenemen\, voor een kopje soep wordt gezorgd. \nHeb je affiniteit met Astrologie en ben je geinteresseerd in wat 2025 astrologisch in petto heeft\, meld je hier dan nu aan \n 
URL:https://wijsameninflevoland.nl/event/introductie-workshop-astrologie/
LOCATION:Inspiratie vindt mens\, Fazantendreef 15\, Dronten\, Flevoland\, 8251 JR\, Netherlands
ATTACH;FMTTYPE=image/png:https://wijsameninflevoland.nl/wp-content/uploads/2024/01/Astrologie.png
ORGANIZER;CN="Patricia Beekman":MAILTO:info@inspiratievindtmens.nl
END:VEVENT
BEGIN:VEVENT
DTSTART;TZID=Europe/Amsterdam:20250119T103000
DTEND;TZID=Europe/Amsterdam:20250119T113000
DTSTAMP:20260421T134512
CREATED:20250110T121000Z
LAST-MODIFIED:20250120T122332Z
UID:3547-1737282600-1737286200@wijsameninflevoland.nl
SUMMARY:Wandelen in Lelystad - locatie Gelderse Hout
DESCRIPTION:Wandel je mee? Elke zondag ben je van harte welkom om half 11 (10.30u) om gezellig met elkaar te wandelen. \nLET OP; de locatie is gewijzigd! \nAankomende zondag is gekozen voor Gelderse Hout. Op zondag 19 januari 2025 hebben de wandelaars gekozen voor de locatie Gelderse Hout\, voor de wekelijkse nauurwandeling. \nWe wandelen vanaf parkeerplaats Gelderse brug bij hoge zendmast. \n \n\n  \nOok hier zijn honden van harte welkom. \n\nlet op: startpunt zie ook bij punt 2. op de tekening bij de plattegrond van staatsbosbeheer \n  \nKomen jullie gezellig mee wandelen? \nPlattegrond wandelroute Gelderse Hout \n  \n 
URL:https://wijsameninflevoland.nl/event/wandelen-in-lelystad-3/
LOCATION:Gelderse Hout\, Geldersebrug\, Lelystad\, Flevoland\, Nederland
ATTACH;FMTTYPE=image/jpeg:https://wijsameninflevoland.nl/wp-content/uploads/2023/11/Gelderse-hout.jpg
ORGANIZER;CN="Wij samen in Flevoland":MAILTO:info@wijsameninflevoland.nl
END:VEVENT
BEGIN:VEVENT
DTSTART;TZID=Europe/Amsterdam:20250114T193000
DTEND;TZID=Europe/Amsterdam:20250114T230000
DTSTAMP:20260421T134512
CREATED:20240110T134822Z
LAST-MODIFIED:20250110T151912Z
UID:3883-1736883000-1736895600@wijsameninflevoland.nl
SUMMARY:Burgers aan zet Flevoland
DESCRIPTION:Op deze avond willen we onze leden uitnodigen voor het bijwonen van 1 of meer commissie vergaderingen in het gemeentehuis van Lelystad. \nGezien de vele ontwikkelingen in onze provincie & gemeentes is het raadzaam om meer kennis op te doen over wat er speelt en wanneer wij als burgers nog inspraak hebben. \nvoor meer achtergrondinformatie zie dit bericht op onze website. \nWat er precies op de agenda staat en de bijbehorende documenten vind je hier \nWil jij je ook samen met ons informeren over wat de ontwikkelingen zijn\, kom dan ook op 14 januari naar de commissie vergaderingen.  Er wordt die avond ook door iemand ingesproken. \n 
URL:https://wijsameninflevoland.nl/event/burgers-aan-zet-flevoland/
LOCATION:Gemeentehuis Lelystad\, Stadhuisplein 2\, Lelystad\, 8232ZX\, Nederland
ATTACH;FMTTYPE=image/jpeg:https://wijsameninflevoland.nl/wp-content/uploads/2024/12/Stadhuis-met-tulpen.jpg
ORGANIZER;CN="Wij samen in Flevoland":MAILTO:info@wijsameninflevoland.nl
END:VEVENT
BEGIN:VEVENT
DTSTART;TZID=Europe/Amsterdam:20241203T193000
DTEND;TZID=Europe/Amsterdam:20241203T220000
DTSTAMP:20260421T134512
CREATED:20240925T161922Z
LAST-MODIFIED:20241206T134051Z
UID:3854-1733254200-1733263200@wijsameninflevoland.nl
SUMMARY:Burgerparticipatie 10 december
DESCRIPTION:Op deze avond gaan we aan de hand van de lezing van Maartje van den Berg over de Smart City Almere met elkaar in gesprek over de mogelijkheid van Burgerparticipatie in Lelystad e.o. andere gemeenten in Flevoland. Op welk moment is de Burger nog aan Zet? \nWelke kansen en bedreigingen komen er op ons af. Zowel op provinciaal niveau als op gemeentelijk niveau wordt gewerkt aan een omgevingsvisie (2025-2028) op wat kortere en vooral ook op wat langere termijn (2050). De omgevingsvisie is weer een basis voor de implementatie van de nieuwe Omgevingswet. \nDe gemeente Lelystad heeft op 22 juni 2021 de Omgevingsvisie Lelystad 2040 al vastgesteld\, volgens de gemeente het resultat van een intensief participatieproces van de afgelopen vier jaar met inwoners en maatschappelijke partners. Maar is dat ook zo?\, hoe hebben wij\, de inwoners\, de burgers daadwerkelijk inspraak en inzage gehad? In de praktijk zijn de processen en de lijvige rapporten voor de meeste van ons onbekend. Echter heeft een omgevingsvisie wel HEEL VEEL invloed op onze leefomgeving. \nmeer info vanaf 2018: Lelystad Next Level  een Samenwerkingsovereenkomst met provincie Flevoland en het Rijk. Het eerstvolgende bestuurlijk overleg met rij en provincie is in april 2025. Op verzoek van de gemeenteraad is een nieuw uitvoeringsprogramma LNL 2024-2027 opgesteld\, dit om in 2025 afspraken met Rijk en Provincie te concretiseren. \n  \n 
URL:https://wijsameninflevoland.nl/event/bijeenkomst-3-december/
LOCATION:De Brink\, Griend 33-07\, Lelystad\, Flevoland\, 8225 SX\, Netherlands
CATEGORIES:Event
ATTACH;FMTTYPE=image/jpeg:https://wijsameninflevoland.nl/wp-content/uploads/2024/03/de-Brink-768x0-c-default.jpeg
ORGANIZER;CN="Wij samen in Flevoland":MAILTO:info@wijsameninflevoland.nl
END:VEVENT
BEGIN:VEVENT
DTSTART;TZID=Europe/Amsterdam:20241022T190000
DTEND;TZID=Europe/Amsterdam:20241022T213000
DTSTAMP:20260421T134512
CREATED:20240925T155035Z
LAST-MODIFIED:20240925T155701Z
UID:3692-1729623600-1729632600@wijsameninflevoland.nl
SUMMARY:Lezing "Wie betaalt\, die bepaalt" 22 oktober
DESCRIPTION:Lezing “Wie betaalt\, die bepaalt” dinsdag 22 oktober\n\n\n\n\n\n\n\n\n\n\n\n\n\n\n\n\n\n\n\n\n\n\n\n\n\n\n\n\n\n\n\n\n\n\n\n\n\n\n\n\n\n\n\n\n\n\n\n\n\n\n\nOp vijf november is het zo ver: Amerika gaat naar de stembus. De uitkomst zal impact hebben op de financiële markten wereldwijd.\n\nWij Samen In Flevoland organiseert op 22 oktober een lezing getiteld “Wie betaalt\, die bepaalt”. Dit als opmaat naar de Amerikaanse presidentsverkiezingen in november dit jaar. We laten een astrologe\, een socioloog en een factchecker aan het woord om wat meer achtergrondinformatie te horen over de Amerikaanse machtselite en om ons historisch geheugen wat op te frissen.\n\n\nGeef je op voor deze lezing. \nAanmelden vóór 7 oktober d.m.v. een emailtje naar info@wijsameninflevoland.nl \nLocatie: De Brink – inloop v.a. 19.00u \nDinsdagavond 22 oktober 2024   19.30u – 21.30u \nBuurthuis De Brink\, zaal “De Golf”\nGriend 33-07\n8225 SX  Lelystad \nEntreekosten: € 10 p.p.  (contant af te rekenen) \nOm teleurstelling te voorkomen adviseren we je zo snel mogelijk op te geven.
URL:https://wijsameninflevoland.nl/event/wie-betaalt-die-bepaalt/
LOCATION:De Brink\, Griend 33-07\, Lelystad\, Flevoland\, 8225 SX\, Netherlands
ATTACH;FMTTYPE=image/jpeg:https://wijsameninflevoland.nl/wp-content/uploads/2024/04/Verkiezingen-VS_AA1qp8iR.jpeg
END:VEVENT
BEGIN:VEVENT
DTSTART;TZID=Europe/Amsterdam:20241001T193000
DTEND;TZID=Europe/Amsterdam:20241001T220000
DTSTAMP:20260421T134512
CREATED:20240923T204803Z
LAST-MODIFIED:20240925T112016Z
UID:3672-1727811000-1727820000@wijsameninflevoland.nl
SUMMARY:LET OP: nieuwe locatie 1 oktober
DESCRIPTION:Voor deze avond hebben we geen specifiek thema\, maar vooral gezelligheid en verbinding onder genot van een kopje koffie of thee om de onderwerpen te bespreken die ons bezighouden: \n\nwat vinden jullie van onze nieuwe locatie De Brink – onze zaal: De Golf?   \nhoe was jullie zomer / vakantie?\nvrijheid in de meest brede zin\nomgevings wijzigingen (politiek en meer\, burgerparticipatie/-inspraak)\nvoedsel / gezondheid\nenergievelden\nkennisoverdracht – welke items\nVoorbereiden :  evaluatie en vervolg over “Noodcommunicatie”  door ons lid Joost Vissers.\nOorlog of Vrede\, hoe gaan we hiermee om\n\nKomen jullie ook? \nVanaf 19.30u is de inloop\,  Wij zien jullie graag op deze avond.\nToegangsprijs: kleine bijdrage voor de onkosten. \nDinsdagavond 1 oktober 2024 \nGriend 33-07\n8225 SX Lelystad\nTel: 0320-243773 \nAls je op de parkeerplaats staat en kijkt naar de ingang van AH\, zie je aan je rechterhand het gebouw De Brink. Het gebouw staat op de grens van de wij Griend en De Kamp. \nVolg Kamp 30 en dan rijdt je aan op de parkeerplaats bij AH. Hier is het gratis parkeren. \n 
URL:https://wijsameninflevoland.nl/event/bijeenkomst-1-oktober/
LOCATION:De Brink\, Griend 33-07\, Lelystad\, Flevoland\, 8225 SX\, Netherlands
ATTACH;FMTTYPE=image/jpeg:https://wijsameninflevoland.nl/wp-content/uploads/2024/03/de-Brink-768x0-c-default.jpeg
ORGANIZER;CN="Wij samen in Flevoland":MAILTO:info@wijsameninflevoland.nl
END:VEVENT
BEGIN:VEVENT
DTSTART;TZID=Europe/Amsterdam:20240903T193000
DTEND;TZID=Europe/Amsterdam:20240903T220000
DTSTAMP:20260421T134512
CREATED:20240503T113954Z
LAST-MODIFIED:20240630T141327Z
UID:3740-1725391800-1725400800@wijsameninflevoland.nl
SUMMARY:Bijeenkomst 3 september - Biotuinen: lezing Germaanse geneeswijze
DESCRIPTION:Op de eerstvolgende maandelijkse bijeenkomst na de zomer hebben wij als gast Joanne Kersten met een lezing over de Germaanse geneeswijze \nJoanne Kersten is oud-praktijk verpleegkundige en voormalig eigenaar van Natuurvoedingswinkel ’t Hofje te Kampen. Zij is lid van het Team van Caroline Markolin PhD\, oud student van Dr. Hamer\, sinds 2009 en doceert de GNM sinds 2015.\n \nIn verband met beschikbare plaatsen\, graag aanmelden voor deze avond via info@wijsameninflevoland.nl \nInloop vanaf 19.30uur  / Start Lezing vanaf 19.45uur  (staat in onderstaande poster iets anders!) \n \nWat is Germaanse Geneeswijze?  \nDe Germaanse geneeskunde of GNM (German New Medicine) is de naam van een nieuwe wetenschappelijke geneeskunde\, het levenswerk van een geniale Duitse internist\, theoloog\, uitvinder. Dr. Ryke Geerd Hamer.\nDeze geneeskunde krijgt langzamerhand veel bekendheid\, zowel landelijk als internationaal. En dat is niet voor niets. De Germaanse Geneeskunde is logisch\, te begrijpen voor zowel medische professionals als leken\, en is direct in het dagelijks leven te toetsen bij zowel jezelf als bij anderen. Net als ons educatie systeem\, de economie en politiek is de visie op de biologie en fysiologie van ons lichaam hard aan vernieuwing toe. \nOns lichaam is geen oorlogsveld en het valt zichzelf niet aan. Onze zogenaamde immuunsysteem is in werkelijkheid een ‘support’ systeem\, een ondersteunend orgaan. \nAls wij kennis maken met deze nieuwe geneeskunde dan is begrip waarom we ziek zijn geworden een belangrijke eerste stap. Wij hebben niets fout gedaan. \nWe leren vervolgens hoe de behandeling en therapie bij ziekteklachten een zachtaardige en begripvolle ondersteuning is van het proces.
URL:https://wijsameninflevoland.nl/event/bijeenkomst-3-september-biotuinen/
LOCATION:biotuinen\, Bosweg 40\, Lelystad\, Flevoland\, 8231DZ\, Nederland
ATTACH;FMTTYPE=image/jpeg:https://wijsameninflevoland.nl/wp-content/uploads/2024/03/Clubhuis-Biotuinen_20180530_145858-Small-300x225-1.jpg
ORGANIZER;CN="Wij samen in Flevoland":MAILTO:info@wijsameninflevoland.nl
END:VEVENT
BEGIN:VEVENT
DTSTART;TZID=Europe/Amsterdam:20240404T110000
DTEND;TZID=Europe/Amsterdam:20240426T170000
DTSTAMP:20260421T134512
CREATED:20240404T103053Z
LAST-MODIFIED:20240404T103053Z
UID:3713-1712228400-1714150800@wijsameninflevoland.nl
SUMMARY:Verbindingsdagen Tennet Project Atlas Diemen - Ens
DESCRIPTION:Over het project\n\nTenneT en het ministerie van Economische Zaken en Klimaat (EZK) zijn gestart met het onderzoek naar een nieuwe 380 kV-hoogspanningsverbinding tussen de hoogspanningsstations Diemen\, Lelystad en Ens. \nVoor deze nieuwe hoogspanningsverbinding heeft de minister voor Energie en Klimaat de Notitie Reikwijdte en Detailniveau (NRD) vastgesteld. In dit onderzoeksplan zijn vijf onderzoeksalternatieven (hoofdroutes) en algemene zoekgebieden voor hoogspanningsstations bij Lelystad en Almere-Zeewolde in beeld gebracht. Ook staat beschreven hoe en waarop de onderzoeksalternatieven en zoekgebieden in 2024 worden onderzocht. De NRD en bijbehorende stukken zijn te vinden op: www.rvo.nl/diemen-ens . Ook zijn zoekgebieden uitgewerkt voor uitbreiding of nieuwbouw van hoogspanningsstations in de buurt van Lelystad en Almere-Zeewolde. \n\nStel uw vragen over het project 380 kV Diemen – Ens tijdens de hoogspanningsverbindingsdagen van TenneT\nIn maart en april organiseert TenneT hoogspanningsverbindingsdagen; medewerkers van TenneT zijn aan het werk in het gebied waar onderzoek loopt naar een tracé voor de nieuwe 380 kV-hoogspanningsverbinding tussen Diemen\, Lelystad en Ens. Omwonenden en geïnteresseerden kunnen even binnenlopen om hun vragen te stellen over het project. U kunt ook op de kaarten over dit project op de site van Tennet uw suggestie\, vraag of zorg achterlaten. Ook kun je je inschrijven voor de nieuwsbrief Diemen-Ens Van 28 maart tot 26 april zijn in de diverse plaatsen deze ‘verbindingsdagen’ van 11.00u tot 17.00u: \n5 april: Gemeentehuis Zeewolde \n11 april: De Rede van Dronten \n12 april: Stadhuis Almere \n19 april: Stadhuis Lelystad \n22 april: Restaurant Schokland \n26 april: Laatste bijeenkomst! in Hart van Weesp. \n\n\n\n19 April is de verbindingsdag in het Stadhuis in Lelystad. “De grens van de corridor (blauwe deel) gaat over bestaande bouw (w.o. Parkhaven) heen.”
URL:https://wijsameninflevoland.nl/event/verbindingsdagen-tennet-project-atlas-diemen-ens/
LOCATION:Gemeentehuis Lelystad\, Stadhuisplein 2\, Lelystad\, 8232ZX\, Nederland
ATTACH;FMTTYPE=image/jpeg:https://wijsameninflevoland.nl/wp-content/uploads/2024/04/Tennet_20240312-overzicht-corridor-A3L_1-scaled.jpg
ORGANIZER;CN="Tennet":MAILTO:diemenenens@tennet.eu
END:VEVENT
BEGIN:VEVENT
DTSTART;TZID=Europe/Amsterdam:20240319T140000
DTEND;TZID=Europe/Amsterdam:20240319T153000
DTSTAMP:20260421T134512
CREATED:20240307T163354Z
LAST-MODIFIED:20240307T172308Z
UID:3661-1710856800-1710862200@wijsameninflevoland.nl
SUMMARY:Financieel Amber Alert
DESCRIPTION:Overheidsingrijpen in ons spaargeld\, kan dat zomaar?\nWat kunnen we doen om dit te voorkomen?\nDat is momenteel een urgent thema en komt deze dinsdagmiddag aan de orde. Hans Ludwig (antropoloog) en Patricia Beekman (astrologe) nemen jullie mee aan de hand van een korte videopresentatie van Blackbox die onlangs een discussie aan dit mogelijke overheidsingrijpen wijdde. v.a. 21.43u  – Spaargeld van belastingbetaler in het vizier voor financiering EU-agenda? \n\nToelichting: \nN.a.v. een recent voorstel vd Franse minister van Financiën om spaargelden van de burgers vd EU in te zetten o.a. voor klimaattransitie en defensieversterking (ook met het oog op de oorlog in de Oekraïne?)\, kijkt Patricia Beekman hoe deze trend van overheidsbemoeienis astrologisch is te duiden.\n\nAanmelden:\nAanmelden kan tot uiterlijk 15 maart door een eenvoudig “ja” naar de app van Hans Ludwig 0638764977 \n  \nClubhuis Biotuinen\, Bosweg 40\, 8231 EX  Lelystad;  start 14.00u
URL:https://wijsameninflevoland.nl/event/financieel-amber-alert/
LOCATION:biotuinen\, Bosweg 40\, Lelystad\, Flevoland\, 8231DZ\, Nederland
ATTACH;FMTTYPE=image/jpeg:https://wijsameninflevoland.nl/wp-content/uploads/2024/03/astrology-klok_4541008_640.jpg
END:VEVENT
BEGIN:VEVENT
DTSTART;TZID=Europe/Amsterdam:20240206T193000
DTEND;TZID=Europe/Amsterdam:20240206T213000
DTSTAMP:20260421T134512
CREATED:20240113T133518Z
LAST-MODIFIED:20240203T171437Z
UID:3613-1707247800-1707255000@wijsameninflevoland.nl
SUMMARY:Dilys Derksen vertelt ...
DESCRIPTION:Op deze avond komt Dilys Derksen bij Wij Samen in Flevoland haar verhaal vertellen. \nWie is Dilys? Wij kennen haar misschien wel uit de corana periode. Met Mooie Mensen stelt zij vragen aan allerlei mensen die haar nieuwsgierig maken en waarin zij in een uur durend programma praat met deze mensen. https://www.gouddenker.nl/mooie-mensen \nOp  6 februari komt zij naar Lelystad en kunnen we haar ook vragen stellen\, over haarzelf\, over mooie mensen of …. \nMooie Mensen eindejaarsuitzending 16 december 2023\nhttps://www.youtube.com/watch?v=EFc6HHI0WS8\nDeze avond zal plaatsvinden op onze nieuwe locatie – Clubhuis biotuinen Lelystad achter Karveel (zuigerplasbos) \nClubhuis Biotuinen\, Bosweg 40\, 8231 EX  Lelystad;  inloop v.a. 19.30u\, start 20.00u \nBijdrage: minimaal 5 euro voor de locatie  (inclusief thee / koffie) en een donatie voor Dilys. \n  \nhttps://youtu.be/uXsh2UJ7bcM \n\n  \n 
URL:https://wijsameninflevoland.nl/event/dilys-derksen-vertelt/
LOCATION:biotuinen\, Bosweg 40\, Lelystad\, Flevoland\, 8231DZ\, Nederland
ATTACH;FMTTYPE=image/webp:https://wijsameninflevoland.nl/wp-content/uploads/2024/01/Dilyn-Derksen.webp
ORGANIZER;CN="Wij samen in Flevoland":MAILTO:info@wijsameninflevoland.nl
END:VEVENT
BEGIN:VEVENT
DTSTART;TZID=Europe/Amsterdam:20240121T143000
DTEND;TZID=Europe/Amsterdam:20240121T163000
DTSTAMP:20260421T134512
CREATED:20231206T173005Z
LAST-MODIFIED:20240113T112241Z
UID:3589-1705847400-1705854600@wijsameninflevoland.nl
SUMMARY:Muziekmiddag
DESCRIPTION:Onder de noemer “Het MuziekhuusbijGuus”  wordt op zondag 21 januari 2024 van 14.30 tot 16.30 uur een gezellige middag met livemuziek door en voor Lelystedelingen gehouden in Het Vegetarisch Restaurant aan de Donaustraat 183 in Lelystad. \nArtiesten die willen  optreden\, graag aanmelden per mail: muziekhuusbijguus@gmail.com \nNaast de inbreng van muzikanten en zangers wordt natuurlijk gerekend op een enthousiast publiek. \n  \n 
URL:https://wijsameninflevoland.nl/event/muziekmiddag/
LOCATION:Flevoland
END:VEVENT
BEGIN:VEVENT
DTSTART;TZID=Europe/Amsterdam:20240114T103000
DTEND;TZID=Europe/Amsterdam:20240114T113000
DTSTAMP:20260421T134512
CREATED:20231201T153056Z
LAST-MODIFIED:20240113T105151Z
UID:3564-1705228200-1705231800@wijsameninflevoland.nl
SUMMARY:Wandelen in Lelystad
DESCRIPTION:Wandel je mee? Elke zondag ben je van harte welkom om half 11 (10.30u) om gezellig met elkaar te wandelen. \nOok voor de start in januari hebben de wandelaars gekozen voor het Natuurpark in Lelystad\, waar heerlijk gewandeld kan worden op fijne wandelpaden. We verzamelen weer om 10.30u\,  aan het begin van het park naast de Parkeerplaats. Ook hier zijn honden van harte welkom. \nVolgende week een ander startpunt? zie de Agenda op de website !  https://wijsameninflevoland.nl \n\n  \nKomen jullie gezellig mee wandelen? \n  \nPlattegrond-Natuurpark-size-M-1
URL:https://wijsameninflevoland.nl/event/3564/
LOCATION:Natuurwandeling Gelderse Hout\, Oostranddreef\, Lelystad\, Flevoland\, 8212\, Nederland
ATTACH;FMTTYPE=image/jpeg:https://wijsameninflevoland.nl/wp-content/uploads/2023/05/nature-2849737_1920.jpg
END:VEVENT
BEGIN:VEVENT
DTSTART;TZID=Europe/Amsterdam:20240109T193000
DTEND;TZID=Europe/Amsterdam:20240109T213000
DTSTAMP:20260421T134512
CREATED:20230901T102411Z
LAST-MODIFIED:20231230T151719Z
UID:3010-1704828600-1704835800@wijsameninflevoland.nl
SUMMARY:Nieuwjaarsbijeenkomst Chocoladefabriek
DESCRIPTION:Wij willen jullie graag ontmoeten op onze Nieuwjaarsbijeenkomst in de Chocoladefabriek. Deze 1e bijeenkomst van het nieuwe jaar zal voorlopig de laatste bijeenkomst zijn op de vertrouwde locatie in de Chocoladefabriek. \nOp 9 januari zullen we ook de nieuwe locatie bekendmaken en welke activiteitlen we voor het nieuwe jaar voor ogen hebben. \nHebben jullie ideeen\, laat het ons weten.
URL:https://wijsameninflevoland.nl/event/bijeenkomst-chocoladefabriek-2/
LOCATION:Chocoladefabriek Brouwer\, Schoepenweg 59c\, Lelystad\, 8243 PX\, Nederland
CATEGORIES:Event
ATTACH;FMTTYPE=image/jpeg:https://wijsameninflevoland.nl/wp-content/uploads/2023/09/cookie-756601-scaled.jpg
ORGANIZER;CN="Wij samen in Flevoland":MAILTO:info@wijsameninflevoland.nl
END:VEVENT
BEGIN:VEVENT
DTSTART;TZID=Europe/Amsterdam:20231209T100000
DTEND;TZID=Europe/Amsterdam:20231209T160000
DTSTAMP:20260421T134512
CREATED:20231202T112016Z
LAST-MODIFIED:20231202T112016Z
UID:3575-1702116000-1702137600@wijsameninflevoland.nl
SUMMARY:Kerstmarkt bij Werfsjob Lelystad
DESCRIPTION:KERSTBOMEN verkoop en verschillende kramen. O.a. \nZLMK School De zevenster verkoopt vers gebakken oliebollen\, \nInner-Wheel Lelystad verkoopt glühwein\, erwtensoep en chocolademelk en \nImkerij DréLou zijn aanwezig met honing\, jam\, stoofperen en pompoenmarmelade! \n 
URL:https://wijsameninflevoland.nl/event/kerstmarkt-bij-werfsjob-lelystad/
LOCATION:Bronsweg 10 Lelystad\, Bronsweg 10\, Lelystad\, Flevoland
ATTACH;FMTTYPE=image/jpeg:https://wijsameninflevoland.nl/wp-content/uploads/2023/12/Werfsjob_2photo_2023-12-02_09-25-36.jpg
ORGANIZER;CN="Werfsjob leren werken":MAILTO:info@werfsjob.nl
END:VEVENT
BEGIN:VEVENT
DTSTART;TZID=Europe/Amsterdam:20231112T103000
DTEND;TZID=Europe/Amsterdam:20231112T113000
DTSTAMP:20260421T134512
CREATED:20231030T151510Z
LAST-MODIFIED:20231124T164533Z
UID:3516-1699785000-1699788600@wijsameninflevoland.nl
SUMMARY:Wandelen op zondag
DESCRIPTION:Wandel je mee? Elke zondag ben je van harte welkom om half 11 (10.30u)  op de P aan de Zuigerplasdreef om samen een wandeling te maken. \nDe eerstvolgende data in november: \n26 november \nDe data in december: \n3 december \n10 december \n17 december
URL:https://wijsameninflevoland.nl/event/wandelen-in-lelystad-2/
LOCATION:Zuigerplasbos\, zuigerplasdreef\, Lelystad\, 8223 EX
ATTACH;FMTTYPE=image/jpeg:https://wijsameninflevoland.nl/wp-content/uploads/2023/10/Wandelphoto_2023-11-04_14-35-40-e1699105356182.jpg
END:VEVENT
BEGIN:VEVENT
DTSTART;TZID=Europe/Amsterdam:20231107T190000
DTEND;TZID=Europe/Amsterdam:20231107T213000
DTSTAMP:20260421T134512
CREATED:20230901T102318Z
LAST-MODIFIED:20230911T170055Z
UID:3008-1699383600-1699392600@wijsameninflevoland.nl
SUMMARY:Bijeenkomst Chocoladefabriek
DESCRIPTION:Wij willen jullie graag weer ontmoeten op onze gezellige bijeenkomsten in de Chocoladefabriek onder het genot van een kopje thee of koffie met iets lekkers om met elkaar te verbinden. \nDe data voor de vaste maandelijkse bijeenkomsten zijn: \nDinsdag 7 november om 19.30 uur\nDinsdag 5 december om 19.30 uur
URL:https://wijsameninflevoland.nl/event/bijeenkomst-chocoladefabriek/
LOCATION:Chocoladefabriek Brouwer\, Schoepenweg 59c\, Lelystad\, 8243 PX\, Nederland
CATEGORIES:Event
ATTACH;FMTTYPE=image/jpeg:https://wijsameninflevoland.nl/wp-content/uploads/2023/09/cookie-756601-scaled.jpg
ORGANIZER;CN="Wij samen in Flevoland":MAILTO:info@wijsameninflevoland.nl
END:VEVENT
BEGIN:VEVENT
DTSTART;TZID=Europe/Amsterdam:20231028T110000
DTEND;TZID=Europe/Amsterdam:20231028T150000
DTSTAMP:20260421T134512
CREATED:20231024T084110Z
LAST-MODIFIED:20231026T163028Z
UID:3456-1698490800-1698505200@wijsameninflevoland.nl
SUMMARY:Klimaatmarkt Lelystad
DESCRIPTION:Wij Samen in Flevoland zal ook met een kraam aanwezig zijn om te inspireren. \nOnze Bewust Thema’s sluiten mooi aan. Waar zie jij praktische mogelijkheden om het MILIEU te verbeteren\, bewust om te gaan met de aarde\, de grondstoffen\, de lucht\, water\, gezonde leefomgeving\, voedsel\, duurzaamheid en energie? \nDe klimaatburgemeester van Lelystad sluit aan bij de 17 werelddoelen\, de Social Development Goals ofwel de Duurzame Ontwikkelings Doelstellingen. (SDG’s) – Zijn de doelen haalbaar\, is ern inspraak\, waar kan de burger invloed op hebben\, is het realistich\, betaalbaar en zijn er gelijke kansen voor iedereen? \nWe ontmoeten jullie graag en willen ook de andere kant laten horen. \n  \n 
URL:https://wijsameninflevoland.nl/event/klimaatmarkt-lelystad/
LOCATION:Gemeentehuis Lelystad\, Stadhuisplein 2\, Lelystad\, 8232ZX\, Nederland
CATEGORIES:Event
END:VEVENT
BEGIN:VEVENT
DTSTART;TZID=Europe/Amsterdam:20231015T130000
DTEND;TZID=Europe/Amsterdam:20231015T170000
DTSTAMP:20260421T134512
CREATED:20230901T102510Z
LAST-MODIFIED:20230916T181908Z
UID:3012-1697374800-1697389200@wijsameninflevoland.nl
SUMMARY:Open Dag
DESCRIPTION:Lancering website en gezellig samen komen en diensten aan bieden \n \n 
URL:https://wijsameninflevoland.nl/event/open-dag/
LOCATION:Chocoladefabriek Brouwer\, Schoepenweg 59c\, Lelystad\, 8243 PX\, Nederland
CATEGORIES:Event
ATTACH;FMTTYPE=image/jpeg:https://wijsameninflevoland.nl/wp-content/uploads/2023/09/Open-dag.jpg
ORGANIZER;CN="Wij samen in Flevoland":MAILTO:info@wijsameninflevoland.nl
END:VEVENT
BEGIN:VEVENT
DTSTART;TZID=Europe/Amsterdam:20231003T190000
DTEND;TZID=Europe/Amsterdam:20231003T213000
DTSTAMP:20260421T134512
CREATED:20230901T102201Z
LAST-MODIFIED:20230909T104907Z
UID:3002-1696359600-1696368600@wijsameninflevoland.nl
SUMMARY:Bijeenkomst chocoladefabriek
DESCRIPTION:Wij willen jullie graag weer ontmoeten op onze gezellige bijeenkomsten in de Chocoladefabriek onder het genot van een kopje thee of koffie met iets lekkers om met elkaar te verbinden. \nDe data voor de vaste maandelijkse bijeenkomsten zijn: \nDinsdag 3 oktober om 19.30 uur\nDinsdag 7 november om 19.30 uur\nDinsdag 5 december om 19.30 uur
URL:https://wijsameninflevoland.nl/event/bijeenkomst-chocoladefafriek/
LOCATION:Chocoladefabriek Brouwer\, Schoepenweg 59c\, Lelystad\, 8243 PX\, Nederland
CATEGORIES:Event
ATTACH;FMTTYPE=image/jpeg:https://wijsameninflevoland.nl/wp-content/uploads/2023/09/cookie-756601-scaled.jpg
ORGANIZER;CN="Wij samen in Flevoland":MAILTO:info@wijsameninflevoland.nl
END:VEVENT
BEGIN:VEVENT
DTSTART;TZID=Europe/Amsterdam:20230905T190000
DTEND;TZID=Europe/Amsterdam:20230905T213000
DTSTAMP:20260421T134512
CREATED:20230524T113124Z
LAST-MODIFIED:20230901T102051Z
UID:2881-1693940400-1693949400@wijsameninflevoland.nl
SUMMARY:Bijeenkomst Chocoladefabriek
DESCRIPTION:Iedere eerste dinsdag van de maand komen we gezellig bij elkaar om te verbinden.
URL:https://wijsameninflevoland.nl/event/test-om-te-kijken/
LOCATION:Chocoladefabriek Brouwer\, Schoepenweg 59c\, Lelystad\, 8243 PX\, Nederland
CATEGORIES:Event
ATTACH;FMTTYPE=image/jpeg:https://wijsameninflevoland.nl/wp-content/uploads/2023/02/mass-1355493_1920-e1684928302278.jpg
ORGANIZER;CN="Wij samen in Flevoland":MAILTO:info@wijsameninflevoland.nl
END:VEVENT
BEGIN:VEVENT
DTSTART;TZID=Europe/Amsterdam:20230204T103000
DTEND;TZID=Europe/Amsterdam:20230204T113000
DTSTAMP:20260421T134512
CREATED:20231124T165411Z
LAST-MODIFIED:20240203T101103Z
UID:3551-1675506600-1675510200@wijsameninflevoland.nl
SUMMARY:Wandelen in Lelystad
DESCRIPTION:Wandel je mee? Elke zondag ben je van harte welkom om half 11 (10.30u) om gezellig met elkaar te wandelen. \nLET OP;  LOCATIE wijzigt weer! \nZondag 5 februari verzamelen de wandelaars weer in het Natuurpark in Lelystad\, hier kan heerlijk gewandeld  worden op fijne wandelpaden. We verzamelen om 10.30u\, aan het begin van het park naast de Parkeerplaats. Ook hier zijn honden van harte welkom. \nKomen jullie gezellig mee wandelen om het jaar sportief af te sluiten? \nPlattegrond-Natuurpark-size-M-1
URL:https://wijsameninflevoland.nl/event/wandelen-in-lelystad-4/
LOCATION:Natuurpark Lelystad\, Vlotgrasweg 11\, Lelystad\, Flevoland\, 8219 PP\, Nederland
ATTACH;FMTTYPE=image/jpeg:https://wijsameninflevoland.nl/wp-content/uploads/2023/05/nature-2849737_1920.jpg
ORGANIZER;CN="Wij samen in Flevoland":MAILTO:info@wijsameninflevoland.nl
END:VEVENT
END:VCALENDAR