BEGIN:VCALENDAR
VERSION:2.0
PRODID:-//Wij samen in Flevoland - ECPv6.15.20//NONSGML v1.0//EN
CALSCALE:GREGORIAN
METHOD:PUBLISH
X-ORIGINAL-URL:https://wijsameninflevoland.nl
X-WR-CALDESC:Evenementen voor Wij samen in Flevoland
REFRESH-INTERVAL;VALUE=DURATION:PT1H
X-Robots-Tag:noindex
X-PUBLISHED-TTL:PT1H
BEGIN:VTIMEZONE
TZID:Europe/Amsterdam
BEGIN:DAYLIGHT
TZOFFSETFROM:+0100
TZOFFSETTO:+0200
TZNAME:CEST
DTSTART:20220327T010000
END:DAYLIGHT
BEGIN:STANDARD
TZOFFSETFROM:+0200
TZOFFSETTO:+0100
TZNAME:CET
DTSTART:20221030T010000
END:STANDARD
BEGIN:DAYLIGHT
TZOFFSETFROM:+0100
TZOFFSETTO:+0200
TZNAME:CEST
DTSTART:20230326T010000
END:DAYLIGHT
BEGIN:STANDARD
TZOFFSETFROM:+0200
TZOFFSETTO:+0100
TZNAME:CET
DTSTART:20231029T010000
END:STANDARD
BEGIN:DAYLIGHT
TZOFFSETFROM:+0100
TZOFFSETTO:+0200
TZNAME:CEST
DTSTART:20240331T010000
END:DAYLIGHT
BEGIN:STANDARD
TZOFFSETFROM:+0200
TZOFFSETTO:+0100
TZNAME:CET
DTSTART:20241027T010000
END:STANDARD
BEGIN:DAYLIGHT
TZOFFSETFROM:+0100
TZOFFSETTO:+0200
TZNAME:CEST
DTSTART:20250330T010000
END:DAYLIGHT
BEGIN:STANDARD
TZOFFSETFROM:+0200
TZOFFSETTO:+0100
TZNAME:CET
DTSTART:20251026T010000
END:STANDARD
END:VTIMEZONE
BEGIN:VEVENT
DTSTART;TZID=Europe/Amsterdam:20240109T193000
DTEND;TZID=Europe/Amsterdam:20240109T213000
DTSTAMP:20260421T145938
CREATED:20230901T102411Z
LAST-MODIFIED:20231230T151719Z
UID:3010-1704828600-1704835800@wijsameninflevoland.nl
SUMMARY:Nieuwjaarsbijeenkomst Chocoladefabriek
DESCRIPTION:Wij willen jullie graag ontmoeten op onze Nieuwjaarsbijeenkomst in de Chocoladefabriek. Deze 1e bijeenkomst van het nieuwe jaar zal voorlopig de laatste bijeenkomst zijn op de vertrouwde locatie in de Chocoladefabriek. \nOp 9 januari zullen we ook de nieuwe locatie bekendmaken en welke activiteitlen we voor het nieuwe jaar voor ogen hebben. \nHebben jullie ideeen\, laat het ons weten.
URL:https://wijsameninflevoland.nl/event/bijeenkomst-chocoladefabriek-2/
LOCATION:Chocoladefabriek Brouwer\, Schoepenweg 59c\, Lelystad\, 8243 PX\, Nederland
CATEGORIES:Event
ATTACH;FMTTYPE=image/jpeg:https://wijsameninflevoland.nl/wp-content/uploads/2023/09/cookie-756601-scaled.jpg
ORGANIZER;CN="Wij samen in Flevoland":MAILTO:info@wijsameninflevoland.nl
END:VEVENT
BEGIN:VEVENT
DTSTART;TZID=Europe/Amsterdam:20231209T100000
DTEND;TZID=Europe/Amsterdam:20231209T160000
DTSTAMP:20260421T145938
CREATED:20231202T112016Z
LAST-MODIFIED:20231202T112016Z
UID:3575-1702116000-1702137600@wijsameninflevoland.nl
SUMMARY:Kerstmarkt bij Werfsjob Lelystad
DESCRIPTION:KERSTBOMEN verkoop en verschillende kramen. O.a. \nZLMK School De zevenster verkoopt vers gebakken oliebollen\, \nInner-Wheel Lelystad verkoopt glühwein\, erwtensoep en chocolademelk en \nImkerij DréLou zijn aanwezig met honing\, jam\, stoofperen en pompoenmarmelade! \n 
URL:https://wijsameninflevoland.nl/event/kerstmarkt-bij-werfsjob-lelystad/
LOCATION:Bronsweg 10 Lelystad\, Bronsweg 10\, Lelystad\, Flevoland
ATTACH;FMTTYPE=image/jpeg:https://wijsameninflevoland.nl/wp-content/uploads/2023/12/Werfsjob_2photo_2023-12-02_09-25-36.jpg
ORGANIZER;CN="Werfsjob leren werken":MAILTO:info@werfsjob.nl
END:VEVENT
BEGIN:VEVENT
DTSTART;TZID=Europe/Amsterdam:20231112T103000
DTEND;TZID=Europe/Amsterdam:20231112T113000
DTSTAMP:20260421T145938
CREATED:20231030T151510Z
LAST-MODIFIED:20231124T164533Z
UID:3516-1699785000-1699788600@wijsameninflevoland.nl
SUMMARY:Wandelen op zondag
DESCRIPTION:Wandel je mee? Elke zondag ben je van harte welkom om half 11 (10.30u)  op de P aan de Zuigerplasdreef om samen een wandeling te maken. \nDe eerstvolgende data in november: \n26 november \nDe data in december: \n3 december \n10 december \n17 december
URL:https://wijsameninflevoland.nl/event/wandelen-in-lelystad-2/
LOCATION:Zuigerplasbos\, zuigerplasdreef\, Lelystad\, 8223 EX
ATTACH;FMTTYPE=image/jpeg:https://wijsameninflevoland.nl/wp-content/uploads/2023/10/Wandelphoto_2023-11-04_14-35-40-e1699105356182.jpg
END:VEVENT
BEGIN:VEVENT
DTSTART;TZID=Europe/Amsterdam:20231107T190000
DTEND;TZID=Europe/Amsterdam:20231107T213000
DTSTAMP:20260421T145938
CREATED:20230901T102318Z
LAST-MODIFIED:20230911T170055Z
UID:3008-1699383600-1699392600@wijsameninflevoland.nl
SUMMARY:Bijeenkomst Chocoladefabriek
DESCRIPTION:Wij willen jullie graag weer ontmoeten op onze gezellige bijeenkomsten in de Chocoladefabriek onder het genot van een kopje thee of koffie met iets lekkers om met elkaar te verbinden. \nDe data voor de vaste maandelijkse bijeenkomsten zijn: \nDinsdag 7 november om 19.30 uur\nDinsdag 5 december om 19.30 uur
URL:https://wijsameninflevoland.nl/event/bijeenkomst-chocoladefabriek/
LOCATION:Chocoladefabriek Brouwer\, Schoepenweg 59c\, Lelystad\, 8243 PX\, Nederland
CATEGORIES:Event
ATTACH;FMTTYPE=image/jpeg:https://wijsameninflevoland.nl/wp-content/uploads/2023/09/cookie-756601-scaled.jpg
ORGANIZER;CN="Wij samen in Flevoland":MAILTO:info@wijsameninflevoland.nl
END:VEVENT
BEGIN:VEVENT
DTSTART;TZID=Europe/Amsterdam:20231028T110000
DTEND;TZID=Europe/Amsterdam:20231028T150000
DTSTAMP:20260421T145938
CREATED:20231024T084110Z
LAST-MODIFIED:20231026T163028Z
UID:3456-1698490800-1698505200@wijsameninflevoland.nl
SUMMARY:Klimaatmarkt Lelystad
DESCRIPTION:Wij Samen in Flevoland zal ook met een kraam aanwezig zijn om te inspireren. \nOnze Bewust Thema’s sluiten mooi aan. Waar zie jij praktische mogelijkheden om het MILIEU te verbeteren\, bewust om te gaan met de aarde\, de grondstoffen\, de lucht\, water\, gezonde leefomgeving\, voedsel\, duurzaamheid en energie? \nDe klimaatburgemeester van Lelystad sluit aan bij de 17 werelddoelen\, de Social Development Goals ofwel de Duurzame Ontwikkelings Doelstellingen. (SDG’s) – Zijn de doelen haalbaar\, is ern inspraak\, waar kan de burger invloed op hebben\, is het realistich\, betaalbaar en zijn er gelijke kansen voor iedereen? \nWe ontmoeten jullie graag en willen ook de andere kant laten horen. \n  \n 
URL:https://wijsameninflevoland.nl/event/klimaatmarkt-lelystad/
LOCATION:Gemeentehuis Lelystad\, Stadhuisplein 2\, Lelystad\, 8232ZX\, Nederland
CATEGORIES:Event
END:VEVENT
BEGIN:VEVENT
DTSTART;TZID=Europe/Amsterdam:20231015T130000
DTEND;TZID=Europe/Amsterdam:20231015T170000
DTSTAMP:20260421T145938
CREATED:20230901T102510Z
LAST-MODIFIED:20230916T181908Z
UID:3012-1697374800-1697389200@wijsameninflevoland.nl
SUMMARY:Open Dag
DESCRIPTION:Lancering website en gezellig samen komen en diensten aan bieden \n \n 
URL:https://wijsameninflevoland.nl/event/open-dag/
LOCATION:Chocoladefabriek Brouwer\, Schoepenweg 59c\, Lelystad\, 8243 PX\, Nederland
CATEGORIES:Event
ATTACH;FMTTYPE=image/jpeg:https://wijsameninflevoland.nl/wp-content/uploads/2023/09/Open-dag.jpg
ORGANIZER;CN="Wij samen in Flevoland":MAILTO:info@wijsameninflevoland.nl
END:VEVENT
BEGIN:VEVENT
DTSTART;TZID=Europe/Amsterdam:20231003T190000
DTEND;TZID=Europe/Amsterdam:20231003T213000
DTSTAMP:20260421T145938
CREATED:20230901T102201Z
LAST-MODIFIED:20230909T104907Z
UID:3002-1696359600-1696368600@wijsameninflevoland.nl
SUMMARY:Bijeenkomst chocoladefabriek
DESCRIPTION:Wij willen jullie graag weer ontmoeten op onze gezellige bijeenkomsten in de Chocoladefabriek onder het genot van een kopje thee of koffie met iets lekkers om met elkaar te verbinden. \nDe data voor de vaste maandelijkse bijeenkomsten zijn: \nDinsdag 3 oktober om 19.30 uur\nDinsdag 7 november om 19.30 uur\nDinsdag 5 december om 19.30 uur
URL:https://wijsameninflevoland.nl/event/bijeenkomst-chocoladefafriek/
LOCATION:Chocoladefabriek Brouwer\, Schoepenweg 59c\, Lelystad\, 8243 PX\, Nederland
CATEGORIES:Event
ATTACH;FMTTYPE=image/jpeg:https://wijsameninflevoland.nl/wp-content/uploads/2023/09/cookie-756601-scaled.jpg
ORGANIZER;CN="Wij samen in Flevoland":MAILTO:info@wijsameninflevoland.nl
END:VEVENT
BEGIN:VEVENT
DTSTART;TZID=Europe/Amsterdam:20230905T190000
DTEND;TZID=Europe/Amsterdam:20230905T213000
DTSTAMP:20260421T145938
CREATED:20230524T113124Z
LAST-MODIFIED:20230901T102051Z
UID:2881-1693940400-1693949400@wijsameninflevoland.nl
SUMMARY:Bijeenkomst Chocoladefabriek
DESCRIPTION:Iedere eerste dinsdag van de maand komen we gezellig bij elkaar om te verbinden.
URL:https://wijsameninflevoland.nl/event/test-om-te-kijken/
LOCATION:Chocoladefabriek Brouwer\, Schoepenweg 59c\, Lelystad\, 8243 PX\, Nederland
CATEGORIES:Event
ATTACH;FMTTYPE=image/jpeg:https://wijsameninflevoland.nl/wp-content/uploads/2023/02/mass-1355493_1920-e1684928302278.jpg
ORGANIZER;CN="Wij samen in Flevoland":MAILTO:info@wijsameninflevoland.nl
END:VEVENT
BEGIN:VEVENT
DTSTART;TZID=Europe/Amsterdam:20230204T103000
DTEND;TZID=Europe/Amsterdam:20230204T113000
DTSTAMP:20260421T145938
CREATED:20231124T165411Z
LAST-MODIFIED:20240203T101103Z
UID:3551-1675506600-1675510200@wijsameninflevoland.nl
SUMMARY:Wandelen in Lelystad
DESCRIPTION:Wandel je mee? Elke zondag ben je van harte welkom om half 11 (10.30u) om gezellig met elkaar te wandelen. \nLET OP;  LOCATIE wijzigt weer! \nZondag 5 februari verzamelen de wandelaars weer in het Natuurpark in Lelystad\, hier kan heerlijk gewandeld  worden op fijne wandelpaden. We verzamelen om 10.30u\, aan het begin van het park naast de Parkeerplaats. Ook hier zijn honden van harte welkom. \nKomen jullie gezellig mee wandelen om het jaar sportief af te sluiten? \nPlattegrond-Natuurpark-size-M-1
URL:https://wijsameninflevoland.nl/event/wandelen-in-lelystad-4/
LOCATION:Natuurpark Lelystad\, Vlotgrasweg 11\, Lelystad\, Flevoland\, 8219 PP\, Nederland
ATTACH;FMTTYPE=image/jpeg:https://wijsameninflevoland.nl/wp-content/uploads/2023/05/nature-2849737_1920.jpg
ORGANIZER;CN="Wij samen in Flevoland":MAILTO:info@wijsameninflevoland.nl
END:VEVENT
END:VCALENDAR